BEGIN:VCALENDAR
VERSION:2.0
PRODID:-//Bellevue High PTSA - ECPv6.15.1.1//NONSGML v1.0//EN
CALSCALE:GREGORIAN
METHOD:PUBLISH
X-WR-CALNAME:Bellevue High PTSA
X-ORIGINAL-URL:https://www.bellevuehighptsa.com/wp
X-WR-CALDESC:Events for Bellevue High PTSA
REFRESH-INTERVAL;VALUE=DURATION:PT1H
X-Robots-Tag:noindex
X-PUBLISHED-TTL:PT1H
BEGIN:VTIMEZONE
TZID:America/Los_Angeles
BEGIN:DAYLIGHT
TZOFFSETFROM:-0800
TZOFFSETTO:-0700
TZNAME:PDT
DTSTART:20260308T100000
END:DAYLIGHT
BEGIN:STANDARD
TZOFFSETFROM:-0700
TZOFFSETTO:-0800
TZNAME:PST
DTSTART:20261101T090000
END:STANDARD
END:VTIMEZONE
BEGIN:VEVENT
DTSTART;TZID=America/Los_Angeles:20260430T235900
DTEND;TZID=America/Los_Angeles:20260430T235900
DTSTAMP:20260423T062836
CREATED:20251019T235536Z
LAST-MODIFIED:20251019T235536Z
UID:13624-1777593540-1777593540@www.bellevuehighptsa.com
SUMMARY:Wolverine Guard Submission Deadline
DESCRIPTION:https://www.bellevuehighptsa.com/wp/wolverine-guard/\n\nForms due by midnight.
URL:https://www.bellevuehighptsa.com/wp/event/wolverine-guard-submission-deadline-2/
END:VEVENT
BEGIN:VEVENT
DTSTART;TZID=America/Los_Angeles:20260610T081500
DTEND;TZID=America/Los_Angeles:20260610T093000
DTSTAMP:20260423T062836
CREATED:20251019T235612Z
LAST-MODIFIED:20251019T235612Z
UID:13626-1781079300-1781083800@www.bellevuehighptsa.com
SUMMARY:PTSA General Membership Meeting
DESCRIPTION:
URL:https://www.bellevuehighptsa.com/wp/event/ptsa-general-membership-meeting-13/
LOCATION:BHS Library
END:VEVENT
END:VCALENDAR