BEGIN:VCALENDAR
VERSION:2.0
PRODID:-//Bellevue High PTSA - ECPv6.15.1.1//NONSGML v1.0//EN
CALSCALE:GREGORIAN
METHOD:PUBLISH
X-WR-CALNAME:Bellevue High PTSA
X-ORIGINAL-URL:https://www.bellevuehighptsa.com/wp
X-WR-CALDESC:Events for Bellevue High PTSA
REFRESH-INTERVAL;VALUE=DURATION:PT1H
X-Robots-Tag:noindex
X-PUBLISHED-TTL:PT1H
BEGIN:VTIMEZONE
TZID:America/Los_Angeles
BEGIN:DAYLIGHT
TZOFFSETFROM:-0800
TZOFFSETTO:-0700
TZNAME:PDT
DTSTART:20220313T100000
END:DAYLIGHT
BEGIN:STANDARD
TZOFFSETFROM:-0700
TZOFFSETTO:-0800
TZNAME:PST
DTSTART:20221106T090000
END:STANDARD
BEGIN:DAYLIGHT
TZOFFSETFROM:-0800
TZOFFSETTO:-0700
TZNAME:PDT
DTSTART:20230312T100000
END:DAYLIGHT
BEGIN:STANDARD
TZOFFSETFROM:-0700
TZOFFSETTO:-0800
TZNAME:PST
DTSTART:20231105T090000
END:STANDARD
BEGIN:DAYLIGHT
TZOFFSETFROM:-0800
TZOFFSETTO:-0700
TZNAME:PDT
DTSTART:20240310T100000
END:DAYLIGHT
BEGIN:STANDARD
TZOFFSETFROM:-0700
TZOFFSETTO:-0800
TZNAME:PST
DTSTART:20241103T090000
END:STANDARD
BEGIN:DAYLIGHT
TZOFFSETFROM:-0800
TZOFFSETTO:-0700
TZNAME:PDT
DTSTART:20250309T100000
END:DAYLIGHT
BEGIN:STANDARD
TZOFFSETFROM:-0700
TZOFFSETTO:-0800
TZNAME:PST
DTSTART:20251102T090000
END:STANDARD
BEGIN:DAYLIGHT
TZOFFSETFROM:-0800
TZOFFSETTO:-0700
TZNAME:PDT
DTSTART:20260308T100000
END:DAYLIGHT
BEGIN:STANDARD
TZOFFSETFROM:-0700
TZOFFSETTO:-0800
TZNAME:PST
DTSTART:20261101T090000
END:STANDARD
END:VTIMEZONE
BEGIN:VEVENT
DTSTART;TZID=America/Los_Angeles:20260415T081500
DTEND;TZID=America/Los_Angeles:20260415T093000
DTSTAMP:20260423T162649
CREATED:20251019T235412Z
LAST-MODIFIED:20251019T235412Z
UID:13622-1776240900-1776245400@www.bellevuehighptsa.com
SUMMARY:PTSA General Membership Meeting
DESCRIPTION:
URL:https://www.bellevuehighptsa.com/wp/event/ptsa-general-membership-meeting-12/
LOCATION:BHS Library
END:VEVENT
BEGIN:VEVENT
DTSTART;TZID=America/Los_Angeles:20260114T081500
DTEND;TZID=America/Los_Angeles:20260114T093000
DTSTAMP:20260423T162649
CREATED:20251019T235329Z
LAST-MODIFIED:20251019T235329Z
UID:13620-1768378500-1768383000@www.bellevuehighptsa.com
SUMMARY:PTSA General Membership Meeting
DESCRIPTION:
URL:https://www.bellevuehighptsa.com/wp/event/ptsa-general-membership-meeting-11/
LOCATION:BHS Library
END:VEVENT
BEGIN:VEVENT
DTSTART;VALUE=DATE:20251216
DTEND;VALUE=DATE:20251217
DTSTAMP:20260423T162649
CREATED:20251019T234959Z
LAST-MODIFIED:20251019T235112Z
UID:13615-1765843200-1765929599@www.bellevuehighptsa.com
SUMMARY:Staff Appreciation Holiday Desserts
DESCRIPTION:Please signup here: https://www.signupgenius.com/go/10C0F4FADA622A31-58583155-bhsstaff#/
URL:https://www.bellevuehighptsa.com/wp/event/ptsa-general-membership-meeting-9/
END:VEVENT
BEGIN:VEVENT
DTSTART;TZID=America/Los_Angeles:20251112T081500
DTEND;TZID=America/Los_Angeles:20251112T093000
DTSTAMP:20260423T162649
CREATED:20251019T235246Z
LAST-MODIFIED:20251019T235246Z
UID:13618-1762935300-1762939800@www.bellevuehighptsa.com
SUMMARY:PTSA General Membership Meeting
DESCRIPTION:
URL:https://www.bellevuehighptsa.com/wp/event/ptsa-general-membership-meeting-10/
LOCATION:BHS Library
END:VEVENT
BEGIN:VEVENT
DTSTART;TZID=America/Los_Angeles:20251107T180000
DTEND;TZID=America/Los_Angeles:20251107T180000
DTSTAMP:20260423T162649
CREATED:20251019T234909Z
LAST-MODIFIED:20251019T235708Z
UID:13613-1762538400-1762538400@www.bellevuehighptsa.com
SUMMARY:Reflections Art Contest Submission Deadline
DESCRIPTION:https://docs.google.com/forms/d/e/1FAIpQLSceK26onsmXrHXm_MWBi053QIcdOqpCw1Pwh7TtRK_YdQ-PdQ/viewform\n\nEntries due by 6pm.
URL:https://www.bellevuehighptsa.com/wp/event/reflections-art-contest-submission-deadline/
END:VEVENT
BEGIN:VEVENT
DTSTART;TZID=America/Los_Angeles:20251029T103000
DTEND;TZID=America/Los_Angeles:20251029T133000
DTSTAMP:20260423T162649
CREATED:20251019T234723Z
LAST-MODIFIED:20251019T235732Z
UID:13610-1761733800-1761744600@www.bellevuehighptsa.com
SUMMARY:Staff Appreciation Lunch
DESCRIPTION:Please signup here: https://www.signupgenius.com/go/10C0F4FADA622A31-58583155-bhsstaff#/
URL:https://www.bellevuehighptsa.com/wp/event/staff-appreciation-lunch/
LOCATION:PAC
END:VEVENT
BEGIN:VEVENT
DTSTART;TZID=America/Los_Angeles:20250910T081500
DTEND;TZID=America/Los_Angeles:20250910T093000
DTSTAMP:20260423T162649
CREATED:20251019T234516Z
LAST-MODIFIED:20251019T234516Z
UID:13608-1757492100-1757496600@www.bellevuehighptsa.com
SUMMARY:PTSA General Membership Meeting
DESCRIPTION:
URL:https://www.bellevuehighptsa.com/wp/event/ptsa-general-membership-meeting-8/
LOCATION:BHS Library
END:VEVENT
BEGIN:VEVENT
DTSTART;TZID=America/Los_Angeles:20250818T123000
DTEND;TZID=America/Los_Angeles:20250818T140000
DTSTAMP:20260423T162649
CREATED:20250816T203343Z
LAST-MODIFIED:20250816T203343Z
UID:13454-1755520200-1755525600@www.bellevuehighptsa.com
SUMMARY:Meet and Greet Incoming Board and Committee Chairs
DESCRIPTION:
URL:https://www.bellevuehighptsa.com/wp/event/meet-and-greet-incoming-board-and-committee-chairs/
LOCATION:Bellevue High School Classroom 1101
END:VEVENT
BEGIN:VEVENT
DTSTART;TZID=America/Los_Angeles:20240612T081500
DTEND;TZID=America/Los_Angeles:20240612T093000
DTSTAMP:20260423T162649
CREATED:20231103T004359Z
LAST-MODIFIED:20231103T004359Z
UID:12628-1718180100-1718184600@www.bellevuehighptsa.com
SUMMARY:PTSA General Membership Meeting
DESCRIPTION:
URL:https://www.bellevuehighptsa.com/wp/event/ptsa-general-membership-meeting-7/
LOCATION:BHS Library
END:VEVENT
BEGIN:VEVENT
DTSTART;TZID=America/Los_Angeles:20240417T081500
DTEND;TZID=America/Los_Angeles:20240417T093000
DTSTAMP:20260423T162649
CREATED:20231103T004313Z
LAST-MODIFIED:20231103T004313Z
UID:12626-1713341700-1713346200@www.bellevuehighptsa.com
SUMMARY:PTSA General Membership Meeting
DESCRIPTION:
URL:https://www.bellevuehighptsa.com/wp/event/ptsa-general-membership-meeting-6/
LOCATION:BHS Library
END:VEVENT
BEGIN:VEVENT
DTSTART;TZID=America/Los_Angeles:20240110T081500
DTEND;TZID=America/Los_Angeles:20240110T093000
DTSTAMP:20260423T162649
CREATED:20231103T004201Z
LAST-MODIFIED:20231103T004201Z
UID:12624-1704874500-1704879000@www.bellevuehighptsa.com
SUMMARY:PTSA General Membership Meeting
DESCRIPTION:
URL:https://www.bellevuehighptsa.com/wp/event/ptsa-general-membership-meeting-5/
LOCATION:BHS Library
END:VEVENT
BEGIN:VEVENT
DTSTART;TZID=America/Los_Angeles:20231108T084500
DTEND;TZID=America/Los_Angeles:20231108T093000
DTSTAMP:20260423T162649
CREATED:20231102T231402Z
LAST-MODIFIED:20231102T231402Z
UID:12602-1699433100-1699435800@www.bellevuehighptsa.com
SUMMARY:PTSA General Membership Meeting
DESCRIPTION:
URL:https://www.bellevuehighptsa.com/wp/event/ptsa-general-membership-meeting-4/
LOCATION:BHS Library
END:VEVENT
BEGIN:VEVENT
DTSTART;TZID=America/Los_Angeles:20230829T120000
DTEND;TZID=America/Los_Angeles:20230829T160000
DTSTAMP:20260423T162649
CREATED:20230821T235124Z
LAST-MODIFIED:20230821T235133Z
UID:12434-1693310400-1693324800@www.bellevuehighptsa.com
SUMMARY:9th Grade and New-to-district Student Laptop Distribution
DESCRIPTION:
URL:https://www.bellevuehighptsa.com/wp/event/9th-grade-and-new-to-district-student-laptop-distribution/
LOCATION:Bellevue High School Classroom 1101
END:VEVENT
BEGIN:VEVENT
DTSTART;TZID=America/Los_Angeles:20230622T120000
DTEND;TZID=America/Los_Angeles:20230622T130000
DTSTAMP:20260423T162649
CREATED:20221115T045612Z
LAST-MODIFIED:20221115T045612Z
UID:12046-1687435200-1687438800@www.bellevuehighptsa.com
SUMMARY:Staff Appreciation Luncheon
DESCRIPTION:
URL:https://www.bellevuehighptsa.com/wp/event/staff-appreciation-luncheon-3/
END:VEVENT
BEGIN:VEVENT
DTSTART;TZID=America/Los_Angeles:20230614T083000
DTEND;TZID=America/Los_Angeles:20230614T100000
DTSTAMP:20260423T162649
CREATED:20221115T045416Z
LAST-MODIFIED:20221115T045416Z
UID:12040-1686731400-1686736800@www.bellevuehighptsa.com
SUMMARY:PTSA General Membership Meeting
DESCRIPTION:General Membership Meetings are held in the BHS Library following Dr. Anderson’s Principal’s Coffee.
URL:https://www.bellevuehighptsa.com/wp/event/ptsa-general-membership-meeting-3/
END:VEVENT
BEGIN:VEVENT
DTSTART;VALUE=DATE:20230430
DTEND;VALUE=DATE:20230501
DTSTAMP:20260423T162649
CREATED:20221115T050119Z
LAST-MODIFIED:20221115T050119Z
UID:12052-1682812800-1682899199@www.bellevuehighptsa.com
SUMMARY:Wolverine Guard Submission Deadline
DESCRIPTION:Forms due by midnight.
URL:https://www.bellevuehighptsa.com/wp/event/wolverine-guard-submission-deadline/
END:VEVENT
BEGIN:VEVENT
DTSTART;TZID=America/Los_Angeles:20230405T083000
DTEND;TZID=America/Los_Angeles:20230405T100000
DTSTAMP:20260423T162649
CREATED:20221115T045332Z
LAST-MODIFIED:20221115T045332Z
UID:12038-1680683400-1680688800@www.bellevuehighptsa.com
SUMMARY:PTSA General Membership Meeting
DESCRIPTION:General Membership Meetings are held in the BHS Library following Dr. Anderson’s Principal’s Coffee.
URL:https://www.bellevuehighptsa.com/wp/event/ptsa-general-membership-meeting-2/
END:VEVENT
BEGIN:VEVENT
DTSTART;TZID=America/Los_Angeles:20230208T123000
DTEND;TZID=America/Los_Angeles:20230208T133000
DTSTAMP:20260423T162649
CREATED:20221115T045536Z
LAST-MODIFIED:20221115T045536Z
UID:12044-1675859400-1675863000@www.bellevuehighptsa.com
SUMMARY:Staff Appreciation Luncheon
DESCRIPTION:
URL:https://www.bellevuehighptsa.com/wp/event/staff-appreciation-luncheon-2/
END:VEVENT
BEGIN:VEVENT
DTSTART;TZID=America/Los_Angeles:20230118T153000
DTEND;TZID=America/Los_Angeles:20230118T173000
DTSTAMP:20260423T162649
CREATED:20230111T180128Z
LAST-MODIFIED:20230111T180128Z
UID:12218-1674055800-1674063000@www.bellevuehighptsa.com
SUMMARY:BHS Centennial Planning Meeting
DESCRIPTION:
URL:https://www.bellevuehighptsa.com/wp/event/bhs-centennial-planning-meeting/
LOCATION:BHS Library
END:VEVENT
BEGIN:VEVENT
DTSTART;VALUE=DATE:20230116
DTEND;VALUE=DATE:20230117
DTSTAMP:20260423T162649
CREATED:20221127T012231Z
LAST-MODIFIED:20221127T012231Z
UID:12142-1673827200-1673913599@www.bellevuehighptsa.com
SUMMARY:No School: Martin Luther King\, Jr. Day
DESCRIPTION:
URL:https://www.bellevuehighptsa.com/wp/event/no-school-martin-luther-king-jr-day/
END:VEVENT
BEGIN:VEVENT
DTSTART;TZID=America/Los_Angeles:20230111T083000
DTEND;TZID=America/Los_Angeles:20230111T100000
DTSTAMP:20260423T162649
CREATED:20221115T045225Z
LAST-MODIFIED:20221115T045225Z
UID:12036-1673425800-1673431200@www.bellevuehighptsa.com
SUMMARY:PTSA General Membership Meeting
DESCRIPTION:General Membership Meetings are held in the BHS Library following Dr. Anderson’s Principal’s Coffee.
URL:https://www.bellevuehighptsa.com/wp/event/ptsa-general-membership-meeting/
END:VEVENT
BEGIN:VEVENT
DTSTART;VALUE=DATE:20221219
DTEND;VALUE=DATE:20230103
DTSTAMP:20260423T162649
CREATED:20221127T012145Z
LAST-MODIFIED:20221127T012145Z
UID:12140-1671408000-1672703999@www.bellevuehighptsa.com
SUMMARY:No School: Winter Break
DESCRIPTION:
URL:https://www.bellevuehighptsa.com/wp/event/no-school-winter-break/
END:VEVENT
BEGIN:VEVENT
DTSTART;TZID=America/Los_Angeles:20221214T081500
DTEND;TZID=America/Los_Angeles:20221214T091500
DTSTAMP:20260423T162649
CREATED:20221115T045740Z
LAST-MODIFIED:20221115T045740Z
UID:12048-1671005700-1671009300@www.bellevuehighptsa.com
SUMMARY:Principal's Coffee
DESCRIPTION:In the BHS Library and on Teams – see Principal’s weekly newsletter for the Teams link.
URL:https://www.bellevuehighptsa.com/wp/event/principals-coffee/
END:VEVENT
BEGIN:VEVENT
DTSTART;TZID=America/Los_Angeles:20221209T081500
DTEND;TZID=America/Los_Angeles:20221209T094500
DTSTAMP:20260423T162649
CREATED:20221127T014829Z
LAST-MODIFIED:20221127T014829Z
UID:12146-1670573700-1670579100@www.bellevuehighptsa.com
SUMMARY:Multi-language Principal's Coffee Meeting
DESCRIPTION:Dr. Anderson will talk about ACT and SAT\, AP classes\, Naviance for college planning\, High school and Beyond Plan\, and so on. Additionally\, we will learn the change made on the required standard test after COVID-19 pandemic as well as the details of WA Guaranteed Admission Program.\n\nInterpreters will be available for Chinese-Mandarin\, Japanese\, and Korean languages.
URL:https://www.bellevuehighptsa.com/wp/event/multi-language-principals-coffee-meeting/
LOCATION:BHS Library
END:VEVENT
BEGIN:VEVENT
DTSTART;TZID=America/Los_Angeles:20221207T123000
DTEND;TZID=America/Los_Angeles:20221207T133000
DTSTAMP:20260423T162649
CREATED:20221115T045504Z
LAST-MODIFIED:20221115T045504Z
UID:12042-1670416200-1670419800@www.bellevuehighptsa.com
SUMMARY:Staff Appreciation Luncheon
DESCRIPTION:
URL:https://www.bellevuehighptsa.com/wp/event/staff-appreciation-luncheon/
END:VEVENT
BEGIN:VEVENT
DTSTART;VALUE=DATE:20221124
DTEND;VALUE=DATE:20221126
DTSTAMP:20260423T162649
CREATED:20221115T045847Z
LAST-MODIFIED:20221115T045847Z
UID:12050-1669248000-1669420799@www.bellevuehighptsa.com
SUMMARY:Thanksgiving Break
DESCRIPTION:Schools closed\, have a Happy Thanksgiving!
URL:https://www.bellevuehighptsa.com/wp/event/thanksgiving-break/
END:VEVENT
BEGIN:VEVENT
DTSTART;VALUE=DATE:20221001
DTEND;VALUE=DATE:20221002
DTSTAMP:20260423T162649
CREATED:20220914T123327Z
LAST-MODIFIED:20220914T123327Z
UID:11899-1664582400-1664668799@www.bellevuehighptsa.com
SUMMARY:Homecoming Dance\, @ BHS
DESCRIPTION:
URL:https://www.bellevuehighptsa.com/wp/event/homecoming-dance-bhs/
END:VEVENT
BEGIN:VEVENT
DTSTART;VALUE=DATE:20220930
DTEND;VALUE=DATE:20221001
DTSTAMP:20260423T162649
CREATED:20220914T123254Z
LAST-MODIFIED:20220914T123254Z
UID:11897-1664496000-1664582399@www.bellevuehighptsa.com
SUMMARY:Homecoming Assembly\, 60-Minute Assembly Schedule
DESCRIPTION:Parade down Main Street\nHomecoming Football Game\, 7-9:30pm
URL:https://www.bellevuehighptsa.com/wp/event/homecoming-assembly-60-minute-assembly-schedule/
END:VEVENT
BEGIN:VEVENT
DTSTART;TZID=America/Los_Angeles:20220923T083000
DTEND;TZID=America/Los_Angeles:20220923T113000
DTSTAMP:20260423T162649
CREATED:20220914T123203Z
LAST-MODIFIED:20220914T123203Z
UID:11895-1663921800-1663932600@www.bellevuehighptsa.com
SUMMARY:Armed Services Vocational Aptitude Battery (ASVAB) Test in the Library
DESCRIPTION:
URL:https://www.bellevuehighptsa.com/wp/event/armed-services-vocational-aptitude-battery-asvab-test-in-the-library/
END:VEVENT
BEGIN:VEVENT
DTSTART;VALUE=DATE:20220916
DTEND;VALUE=DATE:20220917
DTSTAMP:20260423T162649
CREATED:20220914T123050Z
LAST-MODIFIED:20220914T123050Z
UID:11892-1663286400-1663372799@www.bellevuehighptsa.com
SUMMARY:Freshman ASB Elections
DESCRIPTION:
URL:https://www.bellevuehighptsa.com/wp/event/freshman-asb-elections/
END:VEVENT
END:VCALENDAR