BEGIN:VCALENDAR
VERSION:2.0
PRODID:-//Bellevue High PTSA - ECPv6.15.1.1//NONSGML v1.0//EN
CALSCALE:GREGORIAN
METHOD:PUBLISH
X-WR-CALNAME:Bellevue High PTSA
X-ORIGINAL-URL:https://www.bellevuehighptsa.com/wp
X-WR-CALDESC:Events for Bellevue High PTSA
REFRESH-INTERVAL;VALUE=DURATION:PT1H
X-Robots-Tag:noindex
X-PUBLISHED-TTL:PT1H
BEGIN:VTIMEZONE
TZID:UTC
BEGIN:STANDARD
TZOFFSETFROM:+0000
TZOFFSETTO:+0000
TZNAME:UTC
DTSTART:20220101T000000
END:STANDARD
END:VTIMEZONE
BEGIN:VEVENT
DTSTART;VALUE=DATE:20220815
DTEND;VALUE=DATE:20220816
DTSTAMP:20260423T145920
CREATED:20170203T204108Z
LAST-MODIFIED:20220828T155345Z
UID:11467-1660521600-1660607999@www.bellevuehighptsa.com
SUMMARY:PTSA website open for parent membership registration
DESCRIPTION:
URL:https://www.bellevuehighptsa.com/wp/event/ptsa-website-open/
CATEGORIES:School
END:VEVENT
END:VCALENDAR